BEGIN:VCALENDAR
VERSION:2.0
PRODID:-//Bergdalsviks båtklubb - ECPv6.15.20//NONSGML v1.0//EN
CALSCALE:GREGORIAN
METHOD:PUBLISH
X-WR-CALNAME:Bergdalsviks båtklubb
X-ORIGINAL-URL:https://bergdalsviksbatklubb.se
X-WR-CALDESC:Händelser för Bergdalsviks båtklubb
REFRESH-INTERVAL;VALUE=DURATION:PT1H
X-Robots-Tag:noindex
X-PUBLISHED-TTL:PT1H
BEGIN:VTIMEZONE
TZID:Europe/Stockholm
BEGIN:DAYLIGHT
TZOFFSETFROM:+0100
TZOFFSETTO:+0200
TZNAME:CEST
DTSTART:20250330T010000
END:DAYLIGHT
BEGIN:STANDARD
TZOFFSETFROM:+0200
TZOFFSETTO:+0100
TZNAME:CET
DTSTART:20251026T010000
END:STANDARD
BEGIN:DAYLIGHT
TZOFFSETFROM:+0100
TZOFFSETTO:+0200
TZNAME:CEST
DTSTART:20260329T010000
END:DAYLIGHT
BEGIN:STANDARD
TZOFFSETFROM:+0200
TZOFFSETTO:+0100
TZNAME:CET
DTSTART:20261025T010000
END:STANDARD
BEGIN:DAYLIGHT
TZOFFSETFROM:+0100
TZOFFSETTO:+0200
TZNAME:CEST
DTSTART:20270328T010000
END:DAYLIGHT
BEGIN:STANDARD
TZOFFSETFROM:+0200
TZOFFSETTO:+0100
TZNAME:CET
DTSTART:20271031T010000
END:STANDARD
END:VTIMEZONE
BEGIN:VEVENT
DTSTART;TZID=Europe/Stockholm:20260822T170000
DTEND;TZID=Europe/Stockholm:20260822T233000
DTSTAMP:20260422T035703
CREATED:20251023T213247Z
LAST-MODIFIED:20251023T213547Z
UID:2403-1787418000-1787441400@bergdalsviksbatklubb.se
SUMMARY:Preliminärt Kräftskiva i klubbhuset
DESCRIPTION:
URL:https://bergdalsviksbatklubb.se/handelse/preliminart-kraftskiva-i-klubbhuset/
LOCATION:Bergdalsviks Båtklubb
END:VEVENT
END:VCALENDAR