BEGIN:VCALENDAR
VERSION:2.0
PRODID:-//Bergdalsviks båtklubb - ECPv6.15.20//NONSGML v1.0//EN
CALSCALE:GREGORIAN
METHOD:PUBLISH
X-ORIGINAL-URL:https://bergdalsviksbatklubb.se
X-WR-CALDESC:Händelser för Bergdalsviks båtklubb
REFRESH-INTERVAL;VALUE=DURATION:PT1H
X-Robots-Tag:noindex
X-PUBLISHED-TTL:PT1H
BEGIN:VTIMEZONE
TZID:Europe/Stockholm
BEGIN:DAYLIGHT
TZOFFSETFROM:+0100
TZOFFSETTO:+0200
TZNAME:CEST
DTSTART:20250330T010000
END:DAYLIGHT
BEGIN:STANDARD
TZOFFSETFROM:+0200
TZOFFSETTO:+0100
TZNAME:CET
DTSTART:20251026T010000
END:STANDARD
BEGIN:DAYLIGHT
TZOFFSETFROM:+0100
TZOFFSETTO:+0200
TZNAME:CEST
DTSTART:20260329T010000
END:DAYLIGHT
BEGIN:STANDARD
TZOFFSETFROM:+0200
TZOFFSETTO:+0100
TZNAME:CET
DTSTART:20261025T010000
END:STANDARD
BEGIN:DAYLIGHT
TZOFFSETFROM:+0100
TZOFFSETTO:+0200
TZNAME:CEST
DTSTART:20270328T010000
END:DAYLIGHT
BEGIN:STANDARD
TZOFFSETFROM:+0200
TZOFFSETTO:+0100
TZNAME:CET
DTSTART:20271031T010000
END:STANDARD
END:VTIMEZONE
BEGIN:VEVENT
DTSTART;TZID=Europe/Stockholm:20260503T130000
DTEND;TZID=Europe/Stockholm:20260503T180000
DTSTAMP:20260421T210804
CREATED:20251023T211726Z
LAST-MODIFIED:20260404T092950Z
UID:2395-1777813200-1777831200@bergdalsviksbatklubb.se
SUMMARY:Sjösättning #2
DESCRIPTION:Sluttiden är preliminär
URL:https://bergdalsviksbatklubb.se/handelse/sjosattning-2-4/
LOCATION:Bergdalsviks Båtklubb
END:VEVENT
BEGIN:VEVENT
DTSTART;TZID=Europe/Stockholm:20260510T130000
DTEND;TZID=Europe/Stockholm:20260510T180000
DTSTAMP:20260421T210804
CREATED:20251023T211926Z
LAST-MODIFIED:20260404T093048Z
UID:2397-1778418000-1778436000@bergdalsviksbatklubb.se
SUMMARY:Sjösättning #3\, sista för året
DESCRIPTION:Sluttiden är preliminär
URL:https://bergdalsviksbatklubb.se/handelse/sjosattning-3-sista-for-aret-2/
LOCATION:Bergdalsviks Båtklubb
END:VEVENT
BEGIN:VEVENT
DTSTART;TZID=Europe/Stockholm:20260519T180000
DTEND;TZID=Europe/Stockholm:20260519T220000
DTSTAMP:20260421T210804
CREATED:20251023T212153Z
LAST-MODIFIED:20260404T092645Z
UID:2399-1779213600-1779228000@bergdalsviksbatklubb.se
SUMMARY:*ARBETSPLIKT* Städdag
DESCRIPTION:Sluttiden är preliminär
URL:https://bergdalsviksbatklubb.se/handelse/arbetsplikt-staddag-8/
LOCATION:Bergdalsviks Båtklubb
END:VEVENT
END:VCALENDAR